BEGIN:VCALENDAR
VERSION:2.0
PRODID:-//Enquête de sens - ECPv6.15.20//NONSGML v1.0//EN
CALSCALE:GREGORIAN
METHOD:PUBLISH
X-WR-CALNAME:Enquête de sens
X-ORIGINAL-URL:https://enquete-de-sens.net
X-WR-CALDESC:Évènements pour Enquête de sens
REFRESH-INTERVAL;VALUE=DURATION:PT1H
X-Robots-Tag:noindex
X-PUBLISHED-TTL:PT1H
BEGIN:VTIMEZONE
TZID:Europe/Paris
BEGIN:DAYLIGHT
TZOFFSETFROM:+0100
TZOFFSETTO:+0200
TZNAME:CEST
DTSTART:20250330T010000
END:DAYLIGHT
BEGIN:STANDARD
TZOFFSETFROM:+0200
TZOFFSETTO:+0100
TZNAME:CET
DTSTART:20251026T010000
END:STANDARD
BEGIN:DAYLIGHT
TZOFFSETFROM:+0100
TZOFFSETTO:+0200
TZNAME:CEST
DTSTART:20260329T010000
END:DAYLIGHT
BEGIN:STANDARD
TZOFFSETFROM:+0200
TZOFFSETTO:+0100
TZNAME:CET
DTSTART:20261025T010000
END:STANDARD
BEGIN:DAYLIGHT
TZOFFSETFROM:+0100
TZOFFSETTO:+0200
TZNAME:CEST
DTSTART:20270328T010000
END:DAYLIGHT
BEGIN:STANDARD
TZOFFSETFROM:+0200
TZOFFSETTO:+0100
TZNAME:CET
DTSTART:20271031T010000
END:STANDARD
END:VTIMEZONE
BEGIN:VEVENT
DTSTART;TZID=Europe/Paris:20260329T100000
DTEND;TZID=Europe/Paris:20260329T160000
DTSTAMP:20260421T124058
CREATED:20251217T084013Z
LAST-MODIFIED:20251217T084013Z
UID:362-1774778400-1774800000@enquete-de-sens.net
SUMMARY:Constellations Familiales
DESCRIPTION:Pour faire votre constellation familiale\, 3 rendez-vous :\n* un rv pré-constelle\, pour faire votre génosociogramme et travailler sur votre demande (1h)\n* Votre constellation familiale\, pour observer\, comprendre et aider à libérer votre système familial\, schématisé par des représentants. (1h)\n* Un RV post-constelle\, pour intégrer ce qui s’est passé pendant votre constellation. (1h)\nTarif constellation familiale : 120€ les 3 rv\n\nPour être représentant :  vous vous inscrivez à la matinée de constellation et vous venez le jour même.\n\nLe rôle des représentants est fondamental pour une constellation.\nEtre choisi pour représenter un membre du système familial du constellé vous fera travailler\, par effet miroir\, sur votre propre système. Vous pourrez tirer profit de votre participation grâce à ce qui a été touché en vous pendant la constellation.\nTarif représentant : 20€
URL:https://enquete-de-sens.net/event/constellations-familiales-4/
LOCATION:rouen
CATEGORIES:constellation familiale
END:VEVENT
END:VCALENDAR