BEGIN:VCALENDAR
VERSION:2.0
PRODID:-//Enquête de sens - ECPv6.15.20//NONSGML v1.0//EN
CALSCALE:GREGORIAN
METHOD:PUBLISH
X-WR-CALNAME:Enquête de sens
X-ORIGINAL-URL:https://enquete-de-sens.net
X-WR-CALDESC:Évènements pour Enquête de sens
REFRESH-INTERVAL;VALUE=DURATION:PT1H
X-Robots-Tag:noindex
X-PUBLISHED-TTL:PT1H
BEGIN:VTIMEZONE
TZID:Europe/Paris
BEGIN:DAYLIGHT
TZOFFSETFROM:+0100
TZOFFSETTO:+0200
TZNAME:CEST
DTSTART:20240331T010000
END:DAYLIGHT
BEGIN:STANDARD
TZOFFSETFROM:+0200
TZOFFSETTO:+0100
TZNAME:CET
DTSTART:20241027T010000
END:STANDARD
BEGIN:DAYLIGHT
TZOFFSETFROM:+0100
TZOFFSETTO:+0200
TZNAME:CEST
DTSTART:20250330T010000
END:DAYLIGHT
BEGIN:STANDARD
TZOFFSETFROM:+0200
TZOFFSETTO:+0100
TZNAME:CET
DTSTART:20251026T010000
END:STANDARD
BEGIN:DAYLIGHT
TZOFFSETFROM:+0100
TZOFFSETTO:+0200
TZNAME:CEST
DTSTART:20260329T010000
END:DAYLIGHT
BEGIN:STANDARD
TZOFFSETFROM:+0200
TZOFFSETTO:+0100
TZNAME:CET
DTSTART:20261025T010000
END:STANDARD
END:VTIMEZONE
BEGIN:VEVENT
DTSTART;TZID=Europe/Paris:20250218T183000
DTEND;TZID=Europe/Paris:20250218T200000
DTSTAMP:20260422T090057
CREATED:20250212T111733Z
LAST-MODIFIED:20250212T111953Z
UID:274-1739903400-1739908800@enquete-de-sens.net
SUMMARY:cercle de libération émotionnelle par le chant
DESCRIPTION:Les vibrations de notre voix et le souffle qui les alimente sont révélateurs de la Vie qui nous anime. Alors\, quand nous n’osons pas trop parler\, quand nous avons peur de nous faire entendre\, quoi de plus libérateur que de chanter ? 🌿🎶🌿 Se remettre en corps par une série de mouvements bioénergétiques et se laisser chanter. Du chant spontanée au chant des voyelles\, accompagné par le tambour. \nApportez votre tambour\, si vous en avez un !!!!!!
URL:https://enquete-de-sens.net/event/274/
LOCATION:rouen
END:VEVENT
END:VCALENDAR