BEGIN:VCALENDAR
VERSION:2.0
PRODID:-//Enquête de sens - ECPv6.15.20//NONSGML v1.0//EN
CALSCALE:GREGORIAN
METHOD:PUBLISH
X-ORIGINAL-URL:https://enquete-de-sens.net
X-WR-CALDESC:Évènements pour Enquête de sens
REFRESH-INTERVAL;VALUE=DURATION:PT1H
X-Robots-Tag:noindex
X-PUBLISHED-TTL:PT1H
BEGIN:VTIMEZONE
TZID:Europe/Paris
BEGIN:DAYLIGHT
TZOFFSETFROM:+0100
TZOFFSETTO:+0200
TZNAME:CEST
DTSTART:20230326T010000
END:DAYLIGHT
BEGIN:STANDARD
TZOFFSETFROM:+0200
TZOFFSETTO:+0100
TZNAME:CET
DTSTART:20231029T010000
END:STANDARD
BEGIN:DAYLIGHT
TZOFFSETFROM:+0100
TZOFFSETTO:+0200
TZNAME:CEST
DTSTART:20240331T010000
END:DAYLIGHT
BEGIN:STANDARD
TZOFFSETFROM:+0200
TZOFFSETTO:+0100
TZNAME:CET
DTSTART:20241027T010000
END:STANDARD
BEGIN:DAYLIGHT
TZOFFSETFROM:+0100
TZOFFSETTO:+0200
TZNAME:CEST
DTSTART:20250330T010000
END:DAYLIGHT
BEGIN:STANDARD
TZOFFSETFROM:+0200
TZOFFSETTO:+0100
TZNAME:CET
DTSTART:20251026T010000
END:STANDARD
BEGIN:DAYLIGHT
TZOFFSETFROM:+0100
TZOFFSETTO:+0200
TZNAME:CEST
DTSTART:20260329T010000
END:DAYLIGHT
BEGIN:STANDARD
TZOFFSETFROM:+0200
TZOFFSETTO:+0100
TZNAME:CET
DTSTART:20261025T010000
END:STANDARD
END:VTIMEZONE
BEGIN:VEVENT
DTSTART;TZID=Europe/Paris:20250218T183000
DTEND;TZID=Europe/Paris:20250218T200000
DTSTAMP:20260421T135555
CREATED:20250212T111733Z
LAST-MODIFIED:20250212T111953Z
UID:274-1739903400-1739908800@enquete-de-sens.net
SUMMARY:cercle de libération émotionnelle par le chant
DESCRIPTION:Les vibrations de notre voix et le souffle qui les alimente sont révélateurs de la Vie qui nous anime. Alors\, quand nous n’osons pas trop parler\, quand nous avons peur de nous faire entendre\, quoi de plus libérateur que de chanter ? 🌿🎶🌿 Se remettre en corps par une série de mouvements bioénergétiques et se laisser chanter. Du chant spontanée au chant des voyelles\, accompagné par le tambour. \nApportez votre tambour\, si vous en avez un !!!!!!
URL:https://enquete-de-sens.net/event/274/
LOCATION:rouen
END:VEVENT
BEGIN:VEVENT
DTSTART;TZID=Europe/Paris:20250201T100000
DTEND;TZID=Europe/Paris:20250201T170000
DTSTAMP:20260421T135555
CREATED:20250106T093614Z
LAST-MODIFIED:20250106T093614Z
UID:253-1738404000-1738429200@enquete-de-sens.net
SUMMARY:
DESCRIPTION:Prendre du temps pour soi est essentiel pour améliorer sa qualité de vie et son bien-être.Isabelle & Nathalie vous propose une journée ressourcement en Normandie \, à Amfreville Sur Iton.\nCette journée\, c’est :– s’offrir un temps pour soi pour se ressourcer– une invitation à plonger en soi-même– s’accorder une parenthèse dans le temps\,– se déconnecter du monde extérieur pour se relaxer et se reconnecter à soi-même.\nPendant cette journée\, vous explorerez différents ateliers\, à votre rythme :– un temps pour prendre soin de votre corps par des mouvements doux et lents– un temps pour libérer votre énergie par la vocalisation de voyelle– temps créatif qui pourra prendre différentes formes en fonction de ce qui est là pour vous : collage\, dessin\, écriture\, …– un temps de repas\, où chacun est invité à amener son repas.– un temps de marche lente au bord de la rivière– un temps de détente profonde en profitant d’un voyage sonore (bols tibétains\, harpe cristal\, tambour….)\nLieu de l’atelier : salle d’activité à Amfreville sur ItonHoraires : 10h-17h . Accueil dès 09h30Matériel : Prévoir un tapis\, un coussin et une couverture. Des tapis sont mis à disposition dans la salle si besoinTarif : 65 eurosRéservation auprès d’isabelle secondsouffle.contact@gmail.comou de Nathalie : nathalie.lesguillier@gmail.com
URL:https://enquete-de-sens.net/event/253/
LOCATION:Amfreville sur iton
CATEGORIES:Journée ressourcement
END:VEVENT
BEGIN:VEVENT
DTSTART;TZID=Europe/Paris:20250123T183000
DTEND;TZID=Europe/Paris:20250123T200000
DTSTAMP:20260421T135555
CREATED:20250106T093316Z
LAST-MODIFIED:20250106T093316Z
UID:250-1737657000-1737662400@enquete-de-sens.net
SUMMARY:
DESCRIPTION:Pour être en lien avec soi et se retrouver.
URL:https://enquete-de-sens.net/event/250/
LOCATION:louviers
CATEGORIES:chant thérapeutique,voyage sonore
END:VEVENT
BEGIN:VEVENT
DTSTART;TZID=Europe/Paris:20250119T110000
DTEND;TZID=Europe/Paris:20250119T120000
DTSTAMP:20260421T135555
CREATED:20250106T093115Z
LAST-MODIFIED:20250106T093115Z
UID:247-1737284400-1737288000@enquete-de-sens.net
SUMMARY:
DESCRIPTION:Laisser faire la magie de la harpe de cristal et profitez d’une profonde détente. Un moment rien que pour vous ! \n30 €/personne en duo\, 20€/personne en trio ou plus.
URL:https://enquete-de-sens.net/event/247/
LOCATION:pont de l’arche
CATEGORIES:voyage sonore
END:VEVENT
BEGIN:VEVENT
DTSTART;TZID=Europe/Paris:20250116T180000
DTEND;TZID=Europe/Paris:20250116T190000
DTSTAMP:20260421T135555
CREATED:20250106T093006Z
LAST-MODIFIED:20250106T093006Z
UID:245-1737050400-1737054000@enquete-de-sens.net
SUMMARY:
DESCRIPTION:Laisser faire la magie de la harpe de cristal et profitez d’une profonde détente. Un moment rien que pour vous ! \n30 €/personne en duo\, 20€/personne en trio ou plus.
URL:https://enquete-de-sens.net/event/245/
LOCATION:Le Vaudreuil
CATEGORIES:voyage sonore
END:VEVENT
BEGIN:VEVENT
DTSTART;TZID=Europe/Paris:20250116T180000
DTEND;TZID=Europe/Paris:20250116T190000
DTSTAMP:20260421T135555
CREATED:20241128T090035Z
LAST-MODIFIED:20241128T090035Z
UID:206-1737050400-1737054000@enquete-de-sens.net
SUMMARY:Voyage sonore au son de la harpe de cristal
DESCRIPTION:Laisser faire la magie de la harpe de cristal et profitez d’une profonde détente. Un moment rien que pour vous ! \n30€/personne en duo – 20€/personne en trio ou plus.
URL:https://enquete-de-sens.net/event/voyage-sonore-au-son-de-la-harpe-de-cristal-8/
LOCATION:Le Vaudreuil
CATEGORIES:voyage sonore
END:VEVENT
BEGIN:VEVENT
DTSTART;TZID=Europe/Paris:20250114T183000
DTEND;TZID=Europe/Paris:20250114T200000
DTSTAMP:20260421T135555
CREATED:20250106T092657Z
LAST-MODIFIED:20250106T092723Z
UID:243-1736879400-1736884800@enquete-de-sens.net
SUMMARY:
DESCRIPTION:Se libérer de ses émotions et prendre confiance en soi. Une exploration dans le corps par le mouvement\, le chant et le tambour.
URL:https://enquete-de-sens.net/event/243/
LOCATION:rouen
CATEGORIES:chant thérapeutique
END:VEVENT
BEGIN:VEVENT
DTSTART;TZID=Europe/Paris:20241214T110000
DTEND;TZID=Europe/Paris:20241214T120000
DTSTAMP:20260421T135555
CREATED:20241128T090605Z
LAST-MODIFIED:20241128T090605Z
UID:212-1734174000-1734177600@enquete-de-sens.net
SUMMARY:Atelier chant - J'peux pas\, j'ai chant !
DESCRIPTION:Retrouver son âme d’enfant en chantant sa chanson préférée à tue-tête !
URL:https://enquete-de-sens.net/event/atelier-chant-jpeux-pas-jai-chant/
LOCATION:rouen
CATEGORIES:chant thérapeutique
END:VEVENT
END:VCALENDAR