BEGIN:VCALENDAR
VERSION:2.0
PRODID:-//Enquête de sens - ECPv6.15.20//NONSGML v1.0//EN
CALSCALE:GREGORIAN
METHOD:PUBLISH
X-WR-CALNAME:Enquête de sens
X-ORIGINAL-URL:https://enquete-de-sens.net
X-WR-CALDESC:Évènements pour Enquête de sens
REFRESH-INTERVAL;VALUE=DURATION:PT1H
X-Robots-Tag:noindex
X-PUBLISHED-TTL:PT1H
BEGIN:VTIMEZONE
TZID:Europe/Paris
BEGIN:DAYLIGHT
TZOFFSETFROM:+0100
TZOFFSETTO:+0200
TZNAME:CEST
DTSTART:20230326T010000
END:DAYLIGHT
BEGIN:STANDARD
TZOFFSETFROM:+0200
TZOFFSETTO:+0100
TZNAME:CET
DTSTART:20231029T010000
END:STANDARD
BEGIN:DAYLIGHT
TZOFFSETFROM:+0100
TZOFFSETTO:+0200
TZNAME:CEST
DTSTART:20240331T010000
END:DAYLIGHT
BEGIN:STANDARD
TZOFFSETFROM:+0200
TZOFFSETTO:+0100
TZNAME:CET
DTSTART:20241027T010000
END:STANDARD
BEGIN:DAYLIGHT
TZOFFSETFROM:+0100
TZOFFSETTO:+0200
TZNAME:CEST
DTSTART:20250330T010000
END:DAYLIGHT
BEGIN:STANDARD
TZOFFSETFROM:+0200
TZOFFSETTO:+0100
TZNAME:CET
DTSTART:20251026T010000
END:STANDARD
BEGIN:DAYLIGHT
TZOFFSETFROM:+0100
TZOFFSETTO:+0200
TZNAME:CEST
DTSTART:20260329T010000
END:DAYLIGHT
BEGIN:STANDARD
TZOFFSETFROM:+0200
TZOFFSETTO:+0100
TZNAME:CET
DTSTART:20261025T010000
END:STANDARD
END:VTIMEZONE
BEGIN:VEVENT
DTSTART;TZID=Europe/Paris:20250119T110000
DTEND;TZID=Europe/Paris:20250119T120000
DTSTAMP:20260419T155659
CREATED:20250106T093115Z
LAST-MODIFIED:20250106T093115Z
UID:247-1737284400-1737288000@enquete-de-sens.net
SUMMARY:
DESCRIPTION:Laisser faire la magie de la harpe de cristal et profitez d’une profonde détente. Un moment rien que pour vous ! \n30 €/personne en duo\, 20€/personne en trio ou plus.
URL:https://enquete-de-sens.net/event/247/
LOCATION:pont de l’arche
CATEGORIES:voyage sonore
END:VEVENT
BEGIN:VEVENT
DTSTART;TZID=Europe/Paris:20250116T180000
DTEND;TZID=Europe/Paris:20250116T190000
DTSTAMP:20260419T155659
CREATED:20250106T093006Z
LAST-MODIFIED:20250106T093006Z
UID:245-1737050400-1737054000@enquete-de-sens.net
SUMMARY:
DESCRIPTION:Laisser faire la magie de la harpe de cristal et profitez d’une profonde détente. Un moment rien que pour vous ! \n30 €/personne en duo\, 20€/personne en trio ou plus.
URL:https://enquete-de-sens.net/event/245/
LOCATION:Le Vaudreuil
CATEGORIES:voyage sonore
END:VEVENT
BEGIN:VEVENT
DTSTART;TZID=Europe/Paris:20250116T180000
DTEND;TZID=Europe/Paris:20250116T190000
DTSTAMP:20260419T155659
CREATED:20241128T090035Z
LAST-MODIFIED:20241128T090035Z
UID:206-1737050400-1737054000@enquete-de-sens.net
SUMMARY:Voyage sonore au son de la harpe de cristal
DESCRIPTION:Laisser faire la magie de la harpe de cristal et profitez d’une profonde détente. Un moment rien que pour vous ! \n30€/personne en duo – 20€/personne en trio ou plus.
URL:https://enquete-de-sens.net/event/voyage-sonore-au-son-de-la-harpe-de-cristal-8/
LOCATION:Le Vaudreuil
CATEGORIES:voyage sonore
END:VEVENT
BEGIN:VEVENT
DTSTART;TZID=Europe/Paris:20250114T183000
DTEND;TZID=Europe/Paris:20250114T200000
DTSTAMP:20260419T155659
CREATED:20250106T092657Z
LAST-MODIFIED:20250106T092723Z
UID:243-1736879400-1736884800@enquete-de-sens.net
SUMMARY:
DESCRIPTION:Se libérer de ses émotions et prendre confiance en soi. Une exploration dans le corps par le mouvement\, le chant et le tambour.
URL:https://enquete-de-sens.net/event/243/
LOCATION:rouen
CATEGORIES:chant thérapeutique
END:VEVENT
BEGIN:VEVENT
DTSTART;TZID=Europe/Paris:20241214T110000
DTEND;TZID=Europe/Paris:20241214T120000
DTSTAMP:20260419T155659
CREATED:20241128T090605Z
LAST-MODIFIED:20241128T090605Z
UID:212-1734174000-1734177600@enquete-de-sens.net
SUMMARY:Atelier chant - J'peux pas\, j'ai chant !
DESCRIPTION:Retrouver son âme d’enfant en chantant sa chanson préférée à tue-tête !
URL:https://enquete-de-sens.net/event/atelier-chant-jpeux-pas-jai-chant/
LOCATION:rouen
CATEGORIES:chant thérapeutique
END:VEVENT
BEGIN:VEVENT
DTSTART;TZID=Europe/Paris:20241212T180000
DTEND;TZID=Europe/Paris:20241212T190000
DTSTAMP:20260419T155659
CREATED:20241113T091222Z
LAST-MODIFIED:20241113T091222Z
UID:175-1734026400-1734030000@enquete-de-sens.net
SUMMARY:Voyage sonore au son de la harpe de cristal
DESCRIPTION:Laisser faire la magie de la harpe de cristal et profitez d’une profonde détente. Un moment rien que pour vous !
URL:https://enquete-de-sens.net/event/voyage-sonore-au-son-de-la-harpe-de-cristal/
LOCATION:Le Vaudreuil
CATEGORIES:voyage sonore
END:VEVENT
BEGIN:VEVENT
DTSTART;TZID=Europe/Paris:20241210T123000
DTEND;TZID=Europe/Paris:20241210T133000
DTSTAMP:20260419T155659
CREATED:20241126T113929Z
LAST-MODIFIED:20241126T114146Z
UID:185-1733833800-1733837400@enquete-de-sens.net
SUMMARY:Voyage sonore au son du cristal
DESCRIPTION:Laisser faire la magie de la harpe de cristal et profitez d’une profonde détente. Un moment rien que pour vous !
URL:https://enquete-de-sens.net/event/voyage-sonore-au-son-du-cristal/
CATEGORIES:voyage sonore
END:VEVENT
BEGIN:VEVENT
DTSTART;TZID=Europe/Paris:20241130T140000
DTEND;TZID=Europe/Paris:20241130T190000
DTSTAMP:20260419T155659
CREATED:20241113T090515Z
LAST-MODIFIED:20241113T091753Z
UID:167-1732975200-1732993200@enquete-de-sens.net
SUMMARY:Massage et harpe de cristal
DESCRIPTION:Profitez d’un massage au son de la harpe de cristal et plonger dans une profonde détente. Un moment rien que pour vous ! Une pause magique !!
URL:https://enquete-de-sens.net/event/massage-et-harpe-de-cristal/
LOCATION:Evreux
CATEGORIES:massage sonore
END:VEVENT
BEGIN:VEVENT
DTSTART;TZID=Europe/Paris:20241128T180000
DTEND;TZID=Europe/Paris:20241128T190000
DTSTAMP:20260419T155659
CREATED:20241113T085933Z
LAST-MODIFIED:20241113T091319Z
UID:162-1732816800-1732820400@enquete-de-sens.net
SUMMARY:Voyage sonore au son de la harpe de cristal
DESCRIPTION:Laisser faire la magie de la harpe de cristal et profitez d’une profonde détente. Un moment rien que pour vous !
URL:https://enquete-de-sens.net/event/162/
LOCATION:Le Vaudreuil
CATEGORIES:voyage sonore
END:VEVENT
BEGIN:VEVENT
DTSTART;TZID=Europe/Paris:20241119T183000
DTEND;TZID=Europe/Paris:20241119T200000
DTSTAMP:20260419T155659
CREATED:20241113T085530Z
LAST-MODIFIED:20241113T091508Z
UID:159-1732041000-1732046400@enquete-de-sens.net
SUMMARY:Cercle de libération émotionnelle par le chant
DESCRIPTION:Se libérer de ses émotions et prendre confiance en soi. Une exploration dans le corps par le mouvement\, le chant et le tambour.
URL:https://enquete-de-sens.net/event/159/
LOCATION:rouen
CATEGORIES:chant thérapeutique
END:VEVENT
BEGIN:VEVENT
DTSTART;TZID=Europe/Paris:20241115T183000
DTEND;TZID=Europe/Paris:20241115T193000
DTSTAMP:20260419T155659
CREATED:20241113T084913Z
LAST-MODIFIED:20241113T091436Z
UID:154-1731695400-1731699000@enquete-de-sens.net
SUMMARY:Voyage sonore à 4 mains
DESCRIPTION:Laisser faire la magie des bols\, tambours\, harpes\, koshi….Avec Isabelle\, nous vous proposons un voyage sonore à 4 mains\, un moment pour vous\, une proposition de pure déconnexion…
URL:https://enquete-de-sens.net/event/voyage-sonore-a-4-mains/
LOCATION:Amfreville sur iton
CATEGORIES:voyage sonore
END:VEVENT
BEGIN:VEVENT
DTSTART;TZID=Europe/Paris:20241114T183000
DTEND;TZID=Europe/Paris:20241114T200000
DTSTAMP:20260419T155659
CREATED:20241113T084223Z
LAST-MODIFIED:20241113T091356Z
UID:151-1731609000-1731614400@enquete-de-sens.net
SUMMARY:Yoga du son - Toning des chakras
DESCRIPTION:Le toning des chakras\, une méthode pour libérer son énergie par les sons. La pratique est composée d’exercices simples de vocalisation de voyelles. Vous explorez pour trouver votre propre tonalité et l’utilisez pour libérer une énergie bloquée. Cela vous permettra d’ouvrir le coeur et de répandre cette énergie dans tout votre corps. Votre voix devient votre outil vibratoire.
URL:https://enquete-de-sens.net/event/yoga-du-son-toning-des-chakras/
LOCATION:rouen
CATEGORIES:chant thérapeutique
END:VEVENT
END:VCALENDAR