BEGIN:VCALENDAR
VERSION:2.0
PRODID:-//Enquête de sens - ECPv6.15.20//NONSGML v1.0//EN
CALSCALE:GREGORIAN
METHOD:PUBLISH
X-ORIGINAL-URL:https://enquete-de-sens.net
X-WR-CALDESC:Évènements pour Enquête de sens
REFRESH-INTERVAL;VALUE=DURATION:PT1H
X-Robots-Tag:noindex
X-PUBLISHED-TTL:PT1H
BEGIN:VTIMEZONE
TZID:Europe/Paris
BEGIN:DAYLIGHT
TZOFFSETFROM:+0100
TZOFFSETTO:+0200
TZNAME:CEST
DTSTART:20250330T010000
END:DAYLIGHT
BEGIN:STANDARD
TZOFFSETFROM:+0200
TZOFFSETTO:+0100
TZNAME:CET
DTSTART:20251026T010000
END:STANDARD
BEGIN:DAYLIGHT
TZOFFSETFROM:+0100
TZOFFSETTO:+0200
TZNAME:CEST
DTSTART:20260329T010000
END:DAYLIGHT
BEGIN:STANDARD
TZOFFSETFROM:+0200
TZOFFSETTO:+0100
TZNAME:CET
DTSTART:20261025T010000
END:STANDARD
BEGIN:DAYLIGHT
TZOFFSETFROM:+0100
TZOFFSETTO:+0200
TZNAME:CEST
DTSTART:20270328T010000
END:DAYLIGHT
BEGIN:STANDARD
TZOFFSETFROM:+0200
TZOFFSETTO:+0100
TZNAME:CET
DTSTART:20271031T010000
END:STANDARD
END:VTIMEZONE
BEGIN:VEVENT
DTSTART;TZID=Europe/Paris:20260204T190000
DTEND;TZID=Europe/Paris:20260204T200000
DTSTAMP:20260421T124132
CREATED:20260129T074102Z
LAST-MODIFIED:20260129T075254Z
UID:366-1770231600-1770235200@enquete-de-sens.net
SUMMARY:Atelier de chant des voyelles
DESCRIPTION:« Je t’invite à t’offrir un moment pour toi… mon atelier à venir pourrait être une belle occasion. »\n\n\n\n\n\n\n\n\n\nTu te sens tendu\, fatigué\, avec le mental qui ne s’arrête jamais ? \nCe cercle de chant est un espace pour faire une pause\,\ndéposer ce qui pèse\, et respirer à nouveau\, ensemble. \nIci\, pas besoin de savoir chanter.\nTa voix est la bienvenue telle qu’elle est. \nÀ travers la respiration et des sons simples\,\nle corps se détend\, le mental ralentit\,\net tu repars plus léger. \n Un moment doux et chaleureux\n Un cadre bienveillant\, sans jugement\n Un temps pour toi\, hors du bruit du quotidien
URL:https://enquete-de-sens.net/event/366/
LOCATION:rouen
CATEGORIES:bien etre,cercle de chants,chant thérapeutique,stress
END:VEVENT
END:VCALENDAR