BEGIN:VCALENDAR
VERSION:2.0
PRODID:-//Enquête de sens - ECPv6.15.20//NONSGML v1.0//EN
CALSCALE:GREGORIAN
METHOD:PUBLISH
X-ORIGINAL-URL:https://enquete-de-sens.net
X-WR-CALDESC:Évènements pour Enquête de sens
REFRESH-INTERVAL;VALUE=DURATION:PT1H
X-Robots-Tag:noindex
X-PUBLISHED-TTL:PT1H
BEGIN:VTIMEZONE
TZID:Europe/Paris
BEGIN:DAYLIGHT
TZOFFSETFROM:+0100
TZOFFSETTO:+0200
TZNAME:CEST
DTSTART:20240331T010000
END:DAYLIGHT
BEGIN:STANDARD
TZOFFSETFROM:+0200
TZOFFSETTO:+0100
TZNAME:CET
DTSTART:20241027T010000
END:STANDARD
BEGIN:DAYLIGHT
TZOFFSETFROM:+0100
TZOFFSETTO:+0200
TZNAME:CEST
DTSTART:20250330T010000
END:DAYLIGHT
BEGIN:STANDARD
TZOFFSETFROM:+0200
TZOFFSETTO:+0100
TZNAME:CET
DTSTART:20251026T010000
END:STANDARD
BEGIN:DAYLIGHT
TZOFFSETFROM:+0100
TZOFFSETTO:+0200
TZNAME:CEST
DTSTART:20260329T010000
END:DAYLIGHT
BEGIN:STANDARD
TZOFFSETFROM:+0200
TZOFFSETTO:+0100
TZNAME:CET
DTSTART:20261025T010000
END:STANDARD
END:VTIMEZONE
BEGIN:VEVENT
DTSTART;TZID=Europe/Paris:20250530T110000
DTEND;TZID=Europe/Paris:20250530T120000
DTSTAMP:20260422T002427
CREATED:20250425T110656Z
LAST-MODIFIED:20250425T110656Z
UID:317-1748602800-1748606400@enquete-de-sens.net
SUMMARY:Voyage sonore au son de la harpe de cristal
DESCRIPTION:Apaiser son mental\, lâcher-prise et retrouver sa vitalité. \nTarif : 30€
URL:https://enquete-de-sens.net/event/voyage-sonore-au-son-de-la-harpe-de-cristal-3/
LOCATION:rouen
CATEGORIES:bien etre,relaxation,voyage sonore
END:VEVENT
END:VCALENDAR