BEGIN:VCALENDAR
VERSION:2.0
PRODID:-//Enquête de sens - ECPv6.15.20//NONSGML v1.0//EN
CALSCALE:GREGORIAN
METHOD:PUBLISH
X-WR-CALNAME:Enquête de sens
X-ORIGINAL-URL:https://enquete-de-sens.net
X-WR-CALDESC:Évènements pour Enquête de sens
REFRESH-INTERVAL;VALUE=DURATION:PT1H
X-Robots-Tag:noindex
X-PUBLISHED-TTL:PT1H
BEGIN:VTIMEZONE
TZID:Europe/Paris
BEGIN:DAYLIGHT
TZOFFSETFROM:+0100
TZOFFSETTO:+0200
TZNAME:CEST
DTSTART:20240331T010000
END:DAYLIGHT
BEGIN:STANDARD
TZOFFSETFROM:+0200
TZOFFSETTO:+0100
TZNAME:CET
DTSTART:20241027T010000
END:STANDARD
BEGIN:DAYLIGHT
TZOFFSETFROM:+0100
TZOFFSETTO:+0200
TZNAME:CEST
DTSTART:20250330T010000
END:DAYLIGHT
BEGIN:STANDARD
TZOFFSETFROM:+0200
TZOFFSETTO:+0100
TZNAME:CET
DTSTART:20251026T010000
END:STANDARD
BEGIN:DAYLIGHT
TZOFFSETFROM:+0100
TZOFFSETTO:+0200
TZNAME:CEST
DTSTART:20260329T010000
END:DAYLIGHT
BEGIN:STANDARD
TZOFFSETFROM:+0200
TZOFFSETTO:+0100
TZNAME:CET
DTSTART:20261025T010000
END:STANDARD
END:VTIMEZONE
BEGIN:VEVENT
DTSTART;TZID=Europe/Paris:20251219T180000
DTEND;TZID=Europe/Paris:20251219T200000
DTSTAMP:20260423T200125
CREATED:20251217T081903Z
LAST-MODIFIED:20251217T081903Z
UID:354-1766167200-1766174400@enquete-de-sens.net
SUMMARY:Cercle de chants sacrés
DESCRIPTION:En cette période de Noël\, je vous propose de nous réunir et de célébrer la Vie\, autour de chants sacrés.\nMantras\, psaumes\, chants amérindiens\, gospel et autres\, venez avec les chants qui vous touchent et parlent à votre coeur.\nAinsi qu’avec quelques objets (bougie\, caillou\, plume\, photo\, etc….) Nous créerons un bel autel placé au centre de notre cercle. Puis nous chanterons ensemble. \nUn moment vibrant pour ouvrir le coeur et gouter à la Joie d’être ensemble.\nUn beau moment de partage et de communion avec le sacré en nous et autour de nous.
URL:https://enquete-de-sens.net/event/cercle-de-chants-sacres/
LOCATION:rouen
CATEGORIES:cercle de chants
END:VEVENT
END:VCALENDAR