BEGIN:VCALENDAR
VERSION:2.0
PRODID:-//Enquête de sens - ECPv6.15.20//NONSGML v1.0//EN
CALSCALE:GREGORIAN
METHOD:PUBLISH
X-ORIGINAL-URL:https://enquete-de-sens.net
X-WR-CALDESC:Évènements pour Enquête de sens
REFRESH-INTERVAL;VALUE=DURATION:PT1H
X-Robots-Tag:noindex
X-PUBLISHED-TTL:PT1H
BEGIN:VTIMEZONE
TZID:Europe/Paris
BEGIN:DAYLIGHT
TZOFFSETFROM:+0100
TZOFFSETTO:+0200
TZNAME:CEST
DTSTART:20250330T010000
END:DAYLIGHT
BEGIN:STANDARD
TZOFFSETFROM:+0200
TZOFFSETTO:+0100
TZNAME:CET
DTSTART:20251026T010000
END:STANDARD
BEGIN:DAYLIGHT
TZOFFSETFROM:+0100
TZOFFSETTO:+0200
TZNAME:CEST
DTSTART:20260329T010000
END:DAYLIGHT
BEGIN:STANDARD
TZOFFSETFROM:+0200
TZOFFSETTO:+0100
TZNAME:CET
DTSTART:20261025T010000
END:STANDARD
BEGIN:DAYLIGHT
TZOFFSETFROM:+0100
TZOFFSETTO:+0200
TZNAME:CEST
DTSTART:20270328T010000
END:DAYLIGHT
BEGIN:STANDARD
TZOFFSETFROM:+0200
TZOFFSETTO:+0100
TZNAME:CET
DTSTART:20271031T010000
END:STANDARD
END:VTIMEZONE
BEGIN:VEVENT
DTSTART;TZID=Europe/Paris:20260423T161500
DTEND;TZID=Europe/Paris:20260423T171500
DTSTAMP:20260421T122529
CREATED:20260421T074616Z
LAST-MODIFIED:20260421T074616Z
UID:419-1776960900-1776964500@enquete-de-sens.net
SUMMARY:Voyage sonore au son de la harpe de cristal
DESCRIPTION:Tarif : 20€/séance – 30€ pour 2 personnes
URL:https://enquete-de-sens.net/event/voyage-sonore-au-son-de-la-harpe-de-cristal-4/
LOCATION:rouen
CATEGORIES:massage sonore,voyage sonore
END:VEVENT
END:VCALENDAR